BEGIN:VCALENDAR
PRODID:-//Kammer Solisten Zug//NONSGML Website//EN
VERSION:2.0
METHOD:PUBLISH
BEGIN:VEVENT
CLASS:PUBLIC
DTSTART;TZID=Europe/Zurich:20260505T150000
DTEND;TZID=Europe/Zurich:20260505T180000
DTSTAMP:20260422T084133Z
SUMMARY;LANGUAGE=de-CH:Kammer Solisten Zug - «Souvenir» – S isch mer alles ei Ding
DESCRIPTION;LANGUAGE=de-CH:\nKonzertbeginn: 15:00\nOrt: Reformiertes Kirchenzentrum Zug\nDetails: https://www.kammersolisten.ch/2025-2026-Souvenir-3
LOCATION:Bundesstrasse 15, 6300 Zug
END:VEVENT
END:VCALENDAR
